Workbook

Sheet Schedule
A1: Housekeeping schedule, Summit Tower Hotel: Peak summer week
A2: Codes: AM 07:00-15:30, MID 09:00-17:30, SH 09:00-13:00, INS inspector 07:00-15:30, PM 15:00-23:00
A4: Employee | B4: Name | C4: Contract | D4: Mon 08-10 | E4: Tue 08-11 | F4: Wed 08-12 | G4: Thu 08-13 | H4: Fri 08-14 | I4: Sat 08-15 | J4: Sun 08-16 | K4: Hours
A5: HK101 | B5: Amara A. | C5: FT | D5: AM | E5: MID | F5: MID | G5: AM | H5: OFF | I5: OFF | J5: AM | K5: =SUM(Hours!B2:H2)
A6: HK102 | B6: Ben B. | C6: FT | D6: OFF | E6: MID | F6: MID | G6: MID | H6: MID | I6: OFF | J6: AM | K6: =SUM(Hours!B3:H3)
A7: HK103 | B7: Carmen C. | C7: FT | D7: AM | E7: AM | F7: AM | G7: MID | H7: OFF | I7: OFF | J7: AM | K7: =SUM(Hours!B4:H4)
A8: HK104 | B8: Deepa D. | C8: FT | D8: AM | E8: MID | F8: AM | G8: AM | H8: MID | I8: OFF | J8: OFF | K8: =SUM(Hours!B5:H5)
A9: HK105 | B9: Elena E. | C9: FT | D9: MID | E9: MID | F9: OFF | G9: AM | H9: MID | I9: OFF | J9: MID | K9: =SUM(Hours!B6:H6)
A10: HK106 | B10: Farid F. | C10: FT | D10: MID | E10: MID | F10: OFF | G10: AM | H10: MID | I10: AM | J10: OFF | K10: =SUM(Hours!B7:H7)
A11: HK107 | B11: Grace G. | C11: FT | D11: MID | E11: AM | F11: OFF | G11: MID | H11: AM | I11: MID | J11: OFF | K11: =SUM(Hours!B8:H8)
A12: HK108 | B12: Hiro H. | C12: FT | D12: OFF | E12: MID | F12: MID | G12: MID | H12: AM | I12: OFF | J12: MID | K12: =SUM(Hours!B9:H9)
A13: HK109 | B13: Isabel J. | C13: FT | D13: OFF | E13: MID | F13: MID | G13: MID | H13: MID | I13: OFF | J13: AM | K13: =SUM(Hours!B10:H10)
A14: HK110 | B14: Jamal K. | C14: FT | D14: AM | E14: OFF | F14: AM | G14: OFF | H14: AM | I14: MID | J14: AM | K14: =SUM(Hours!B11:H11)
A15: HK111 | B15: Kavya L. | C15: FT | D15: AM | E15: AM | F15: AM | G15: AM | H15: OFF | I15: MID | J15: OFF | K15: =SUM(Hours!B12:H12)
A16: HK112 | B16: Liam M. | C16: FT | D16: MID | E16: AM | F16: MID | G16: OFF | H16: OFF | I16: AM | J16: AM | K16: =SUM(Hours!B13:H13)
... A48: HK144 | B48: Sofia D. | C48: PT | D48: OFF | E48: OFF | F48: PM | G48: PM | H48: PM | I48: PM | J48: OFF | K48: =SUM(Hours!B45:H45)

Sheet Hours
A1: Employee | B1: Mon 08-10 | C1: Tue 08-11 | D1: Wed 08-12 | E1: Thu 08-13 | F1: Fri 08-14 | G1: Sat 08-15 | H1: Sun 08-16
A2: HK101 | B2: 8 | C2: 8 | D2: 8 | E2: 8 | F2: 0 | G2: 0 | H2: 8
A3: HK102 | B3: 0 | C3: 8 | D3: 8 | E3: 8 | F3: 8 | G3: 0 | H3: 8
A4: HK103 | B4: 8 | C4: 8 | D4: 8 | E4: 8 | F4: 0 | G4: 0 | H4: 8
A5: HK104 | B5: 8 | C5: 8 | D5: 8 | E5: 8 | F5: 8 | G5: 0 | H5: 0
A6: HK105 | B6: 8 | C6: 8 | D6: 0 | E6: 8 | F6: 8 | G6: 0 | H6: 8
A7: HK106 | B7: 8 | C7: 8 | D7: 0 | E7: 8 | F7: 8 | G7: 8 | H7: 0
A8: HK107 | B8: 8 | C8: 8 | D8: 0 | E8: 8 | F8: 8 | G8: 8 | H8: 0
A9: HK108 | B9: 0 | C9: 8 | D9: 8 | E9: 8 | F9: 8 | G9: 0 | H9: 8
A10: HK109 | B10: 0 | C10: 8 | D10: 8 | E10: 8 | F10: 8 | G10: 0 | H10: 8
A11: HK110 | B11: 8 | C11: 0 | D11: 8 | E11: 0 | F11: 8 | G11: 8 | H11: 8
A12: HK111 | B12: 8 | C12: 8 | D12: 8 | E12: 8 | F12: 0 | G12: 8 | H12: 0
A13: HK112 | B13: 8 | C13: 8 | D13: 8 | E13: 0 | F13: 0 | G13: 8 | H13: 8
... A45: HK144 | B45: 0 | C45: 0 | D45: 7.5 | E45: 7.5 | F45: 7.5 | G45: 7.5 | H45: 0

Sheet Coverage
A1: Day | B1: Cleaning hours needed | C1: Cleaning hours scheduled | D1: Gap hours | E1: Inspectors needed | F1: Inspectors scheduled | G1: Evening needed | H1: Evening scheduled
A2: Mon | B2: 183 | C2: 172.5 | D2: -10.5 | E2: 4 | F2: 4 | G2: 4 | H2: 4
A3: Tue | B3: 220.2 | C3: 217.5 | D3: -2.7 | E3: 4 | F3: 4 | G3: 4 | H3: 4
A4: Wed | B4: 194.5 | C4: 172.5 | D4: -22 | E4: 4 | F4: 4 | G4: 4 | H4: 4
A5: Thu | B5: 201 | C5: 150 | D5: -51 | E5: 4 | F5: 4 | G5: 4 | H5: 4
A6: Fri | B6: 186.2 | C6: 142.5 | D6: -43.7 | E6: 4 | F6: 4 | G6: 4 | H6: 4
A7: Sat | B7: 223 | C7: 150 | D7: -73 | E7: 4 | F7: 4 | G7: 5 | H7: 5
A8: Sun | B8: 256.8 | C8: 165 | D8: -91.8 | E8: 5 | F8: 5 | G8: 3 | H8: 3

Sheet Rule check
A1: Rule | B1: Violations | C1: Result
A2: At least 11 hours off between shifts (covers the daily-rest and between-shift rules) | B2: 0 | C2: Pass
A3: No more than one shift per day | B3: 0 | C3: Pass
A4: At least 24 consecutive hours off in the week | B4: 0 | C4: Pass
A5: No more than 48 hours in the week | B5: 0 | C5: Pass
A6: No shift shorter than three hours | B6: 0 | C6: Pass
A7: No shifts on days the employee is unavailable | B7: 0 | C7: Pass

Sheet Demand
A1: Date | B1: Day | C1: Occupied last night | D1: Departures | E1: Stayovers | F1: Cleaning hours | G1: Attendants needed | H1: Inspectors needed | I1: Evening needed
A2: 2026-08-10 | B2: Mon | C2: 440 | D2: 218 | E2: 222 | F2: 183 | G2: 25 | H2: 4 | I2: 4
A3: 2026-08-11 | B3: Tue | C3: 529 | D3: 263 | E3: 266 | F3: 220.2 | G3: 30 | H3: 4 | I3: 4
A4: 2026-08-12 | B4: Wed | C4: 456 | D4: 255 | E4: 201 | F4: 194.5 | G4: 26 | H4: 4 | I4: 4
A5: 2026-08-13 | B5: Thu | C5: 465 | D5: 276 | E5: 189 | F5: 201 | G5: 27 | H5: 4 | I5: 4
A6: 2026-08-14 | B6: Fri | C6: 454 | D6: 209 | E6: 245 | F6: 186.2 | G6: 25 | H6: 4 | I6: 4
A7: 2026-08-15 | B7: Sat | C7: 576 | D7: 186 | E7: 390 | F7: 223 | G7: 30 | H7: 4 | I7: 5
A8: 2026-08-16 | B8: Sun | C8: 612 | D8: 317 | E8: 295 | F8: 256.8 | G8: 35 | H8: 5 | I8: 3
